0.25000000000000
0.00000000000000
0.00000000000000
-0.25000000000000
686546.43500000006000
5113650.58500000000000
