0.25000000000000
0.00000000000000
0.00000000000000
-0.25000000000000
692806.69499999995000
5119412.05499999970000
