0.25000000000000
0.00000000000000
0.00000000000000
-0.25000000000000
654649.57499999995000
5101611.01499999970000
