0.25000000000000
0.00000000000000
0.00000000000000
-0.25000000000000
654370.02500000002000
5112721.93499999960000
