0.25000000000000
0.00000000000000
0.00000000000000
-0.25000000000000
673518.47499999998000
5118814.08500000000000
