0.25000000000000
0.00000000000000
0.00000000000000
-0.25000000000000
654230.06499999994000
5118277.51499999970000
