0.25000000000000
0.00000000000000
0.00000000000000
-0.25000000000000
641371.00000000000000
5117953.75000000000000
