0.25000000000000
0.00000000000000
0.00000000000000
-0.25000000000000
705478.67500000005000
5125400.89499999960000
