0.25000000000000
0.00000000000000
0.00000000000000
-0.25000000000000
679784.38500000001000
5124562.16500000000000
