0.25000000000000
0.00000000000000
0.00000000000000
-0.25000000000000
666937.21499999997000
5124184.04499999990000
