0.25000000000000
0.00000000000000
0.00000000000000
-0.25000000000000
660221.25000000000000
5135116.75000000000000
