0.25000000000000
0.00000000000000
0.00000000000000
-0.25000000000000
717330.85499999998000
5153637.57500000020000
