0.25000000000000
0.00000000000000
0.00000000000000
-0.25000000000000
634327.75000000000000
5145580.25000000000000
