0.25000000000000
0.00000000000000
0.00000000000000
-0.25000000000000
687052.97500000009000
5096984.56500000040000
