0.25000000000000
0.00000000000000
0.00000000000000
-0.25000000000000
668147.75499999989000
5079741.65500000030000
