0.25000000000000
0.00000000000000
0.00000000000000
-0.25000000000000
661677.45499999996000
5079562.42499999890000
