0.25000000000000
0.00000000000000
0.00000000000000
-0.25000000000000
674147.61499999999000
5096593.24500000010000
