0.25000000000000
0.00000000000000
0.00000000000000
-0.25000000000000
629210.25000000000000
5084323.50000000000000
