0.25000000000000
0.00000000000000
0.00000000000000
-0.25000000000000
629094.00000000000000
5089879.00000000000000
