0.25000000000000
0.00000000000000
0.00000000000000
-0.25000000000000
648336.35499999998000
5095889.98500000030000
