0.25000000000000
0.00000000000000
0.00000000000000
-0.25000000000000
609717.75000000000000
5089483.99999999910000
