0.25000000000000
0.00000000000000
0.00000000000000
-0.25000000000000
718722.40500000014000
5114748.64499999860000
