0.25000000000000
0.00000000000000
0.00000000000000
-0.25000000000000
705852.08499999996000
5114289.83500000000000
