0.25000000000000
0.00000000000000
0.00000000000000
-0.25000000000000
699778.02500000002000
5102959.23500000030000
