0.25000000000000
0.00000000000000
0.00000000000000
-0.25000000000000
693331.14500000014000
5102746.15500000030000
