0.25000000000000
0.00000000000000
0.00000000000000
-0.25000000000000
680437.42500000005000
5102340.28500000010000
