0.25000000000000
0.00000000000000
0.00000000000000
-0.25000000000000
667240.43501023820000
5113073.10465379990000
