0.25000000000000
0.00000000000000
0.00000000000000
-0.25000000000000
615967.50000000000000
5100719.75000000000000
