0.25000000000000
0.00000000000000
0.00000000000000
-0.25000000000000
609520.25000000000000
5100595.00000000000000
