0.25000000000000
0.00000000000000
0.00000000000000
-0.25000000000000
705104.40501173353000
5136511.73707759290000
