0.25000000000000
0.00000000000000
0.00000000000000
-0.25000000000000
679456.96499999997000
5135673.67499999980000
