0.25000000000000
0.00000000000000
0.00000000000000
-0.25000000000000
673360.58501252462000
5124369.98022050970000
