0.25000000000000
0.00000000000000
0.00000000000000
-0.25000000000000
641242.50000000000000
5123509.50000000000000
