0.25000000000000
0.00000000000000
0.00000000000000
-0.25000000000000
647531.99500000000000
5129223.50499999990000
