0.25000000000000
0.00000000000000
0.00000000000000
-0.25000000000000
634696.25000000000000
5128913.25000000000000
