0.25000000000000
0.00000000000000
0.00000000000000
-0.25000000000000
634450.50000000000000
5140024.50000000000000
