0.25000000000000
0.00000000000000
0.00000000000000
-0.25000000000000
615548.00000000000000
5122942.25000000090000
