0.25000000000000
0.00000000000000
0.00000000000000
-0.25000000000000
621860.75000000000000
5128629.50000000000000
