0.25000000000000
0.00000000000000
0.00000000000000
-0.25000000000000
704542.18501062540000
5153178.87588190660000
