0.25000000000000
0.00000000000000
0.00000000000000
-0.25000000000000
704354.44501063507000
5158734.66632938390000
