0.25000000000000
0.00000000000000
0.00000000000000
-0.25000000000000
653247.00000000000000
5157167.75000000000000
