0.25000000000000
0.00000000000000
0.00000000000000
-0.25000000000000
647128.00000000000000
5145890.75000000090000
